BEGIN:VCALENDAR
VERSION:2.0
PRODID:-//Ihr Moderator in Hamburg - Björn Tegeler - ECPv6.2.4//NONSGML v1.0//EN
CALSCALE:GREGORIAN
METHOD:PUBLISH
X-ORIGINAL-URL:https://bjoerntegeler.de
X-WR-CALDESC:Veranstaltungen für Ihr Moderator in Hamburg - Björn Tegeler
REFRESH-INTERVAL;VALUE=DURATION:PT1H
X-Robots-Tag:noindex
X-PUBLISHED-TTL:PT1H
BEGIN:VTIMEZONE
TZID:Europe/Berlin
BEGIN:DAYLIGHT
TZOFFSETFROM:+0100
TZOFFSETTO:+0200
TZNAME:CEST
DTSTART:20230326T010000
END:DAYLIGHT
BEGIN:STANDARD
TZOFFSETFROM:+0200
TZOFFSETTO:+0100
TZNAME:CET
DTSTART:20231029T010000
END:STANDARD
END:VTIMEZONE
BEGIN:VEVENT
DTSTART;TZID=Europe/Berlin:20231217T180000
DTEND;TZID=Europe/Berlin:20231217T180000
DTSTAMP:20260421T191900
CREATED:20231102T134236Z
LAST-MODIFIED:20231102T134247Z
UID:10000011-1702836000-1702836000@bjoerntegeler.de
SUMMARY:"Swing meets Christmas"
DESCRIPTION:Weihnachten am Mühlrad. Freuen Sie sich auf ein Konzert auf dem Bad Oldesloer Weihnachtsmarkt am Mühlrad. Der wahrscheinlich kleinste\, aber feine Weihnachtsmarkt in Schleswig-Holstein findet 2023 wieder statt. Eintritt frei.
URL:https://bjoerntegeler.de/event/swing-meets-christmas/
LOCATION:Bad Oldesloe – Am Mühlrad\, Mühlenplatz\, Bad Oldesloe\, 23843
CATEGORIES:Vocal Performance
ATTACH;FMTTYPE=image/png:https://bjoerntegeler.de/wp-content/uploads/2023/11/Logo_BT_RZ_ohneZusatz.png
END:VEVENT
END:VCALENDAR