BEGIN:VCALENDAR
VERSION:2.0
PRODID:-//Ihr Moderator in Hamburg - Björn Tegeler - ECPv6.2.4//NONSGML v1.0//EN
CALSCALE:GREGORIAN
METHOD:PUBLISH
X-ORIGINAL-URL:https://bjoerntegeler.de
X-WR-CALDESC:Veranstaltungen für Ihr Moderator in Hamburg - Björn Tegeler
REFRESH-INTERVAL;VALUE=DURATION:PT1H
X-Robots-Tag:noindex
X-PUBLISHED-TTL:PT1H
BEGIN:VTIMEZONE
TZID:Europe/Berlin
BEGIN:DAYLIGHT
TZOFFSETFROM:+0100
TZOFFSETTO:+0200
TZNAME:CEST
DTSTART:20230326T010000
END:DAYLIGHT
BEGIN:STANDARD
TZOFFSETFROM:+0200
TZOFFSETTO:+0100
TZNAME:CET
DTSTART:20231029T010000
END:STANDARD
END:VTIMEZONE
BEGIN:VEVENT
DTSTART;TZID=Europe/Berlin:20231229T180000
DTEND;TZID=Europe/Berlin:20231229T230000
DTSTAMP:20260421T191011
CREATED:20231102T135355Z
LAST-MODIFIED:20231102T135518Z
UID:10000013-1703872800-1703890800@bjoerntegeler.de
SUMMARY:Musical-Dinner
DESCRIPTION:Musical Affair\, die bekannten Künstler aus Worpswede verzaubern mit Charme\, Witz und Esprit. Erleben Sie professionelles Entertainment hautnah\, eingebunden in einen Abend voller Genuss für Leib und Seele. \nProgramm 29. Dezember:\nStarlight Express / Elisabeth / Evergreens / Ich war noch niemals in New York \nWir bieten Ihnen an beiden Abenden eine reizvolle Kombination aus kulinarischen und akustischen Köstlichkeiten inkl. 4-Gang-Menü\, Aperitif\, Wein\, Mineralwasser\, Kaffee und Digestiv. \nPreis pro Person inklusive Getränke 125\,00 €
URL:https://bjoerntegeler.de/event/musical-dinner-5/
LOCATION:Geestland – Bösehof\, Hauptmann-Böse-Straße 19\, Geestland\, Niedersachsen\, 27624
CATEGORIES:Musical-Affair
ATTACH;FMTTYPE=image/jpeg:https://bjoerntegeler.de/wp-content/uploads/2023/11/MA_Logo_fb3.jpg
ORGANIZER;CN="B%C3%B6sehof":MAILTO:info@boesehof.de
END:VEVENT
BEGIN:VEVENT
DTSTART;TZID=Europe/Berlin:20231223T180000
DTEND;TZID=Europe/Berlin:20231223T180000
DTSTAMP:20260421T191011
CREATED:20231102T135110Z
LAST-MODIFIED:20231102T135456Z
UID:10000012-1703354400-1703354400@bjoerntegeler.de
SUMMARY:Musical-Dinner
DESCRIPTION:Musical Affair\, die bekannten Künstler aus Worpswede verzaubern mit Charme\, Witz und Esprit. Erleben Sie professionelles Entertainment hautnah\, eingebunden in einen Abend voller Genuss für Leib und Seele. \nProgramm 23. Dezember:\nPhantom der Oper / König der Löwen / Mamma Mia 2 / Weihnachts-Medley \nWir bieten Ihnen an beiden Abenden eine reizvolle Kombination aus kulinarischen und akustischen Köstlichkeiten inkl. 4-Gang-Menü\, Aperitif\, Wein\, Mineralwasser\, Kaffee und Digestiv. \nPreis pro Person inklusive Getränke 125\,00 €
URL:https://bjoerntegeler.de/event/musical-dinner-4/
LOCATION:Geestland – Bösehof\, Hauptmann-Böse-Straße 19\, Geestland\, Niedersachsen\, 27624
CATEGORIES:Musical-Affair
ATTACH;FMTTYPE=image/jpeg:https://bjoerntegeler.de/wp-content/uploads/2023/11/MA_Logo_fb3.jpg
ORGANIZER;CN="B%C3%B6sehof":MAILTO:info@boesehof.de
END:VEVENT
END:VCALENDAR